BEGIN:VCALENDAR
VERSION:2.0
PRODID:-//eventon.com NONSGML v1.0//EN
CALSCALE:GREGORIAN
METHOD:PUBLISH
BEGIN:VEVENT
UID:69e61eb05885a
DTSTAMP:20260420T194016
DTSTART:20250511T045000Z
DTEND:20250511T045000Z
TZID:Asia/Bangkok
LOCATION:ฉะเชิงเทรา 
SUMMARY:เดินวิ่ง สมาธิ วิสาขะ พุทธบูชา 2568 จ.ฉะเชิงเทรา
DESCRIPTION: เดินวิ่ง สมาธิ วิสาขะ พุทธบูชา 2568 จ.ฉะเชิงเทรา\nhttps://patrunning.com/events/%e0%b9%80%e0%b8%94%e0%b8%b4%e0%b8%99%e0%b8%a7%e0%b8%b4%e0%b9%88%e0%b8%87-%e0%b8%aa%e0%b8%a1%e0%b8%b2%e0%b8%98%e0%b8%b4-%e0%b8%a7%e0%b8%b4%e0%b8%aa%e0%b8%b2%e0%b8%82%e0%b8%b0-%e0%b8%9e%e0%b8%b8-4/
URL:https://patrunning.com/events/%e0%b9%80%e0%b8%94%e0%b8%b4%e0%b8%99%e0%b8%a7%e0%b8%b4%e0%b9%88%e0%b8%87-%e0%b8%aa%e0%b8%a1%e0%b8%b2%e0%b8%98%e0%b8%b4-%e0%b8%a7%e0%b8%b4%e0%b8%aa%e0%b8%b2%e0%b8%82%e0%b8%b0-%e0%b8%9e%e0%b8%b8-4/
END:VEVENT
END:VCALENDAR