BEGIN:VCALENDAR
VERSION:2.0
PRODID:-//eventon.com NONSGML v1.0//EN
CALSCALE:GREGORIAN
METHOD:PUBLISH
BEGIN:VEVENT
UID:69e76b3e4e1d0
DTSTAMP:20260421T191910
DTSTART:20250713T111500Z
DTEND:20250713T111500Z
TZID:Asia/Bangkok
LOCATION:กรุงเทพมหานคร 
SUMMARY:JOG&JOY KILO RUN 2025
DESCRIPTION: JOG&JOY KILO RUN 2025\nhttps://patrunning.com/events/jogjoy-kilo-run-2025/
URL:https://patrunning.com/events/jogjoy-kilo-run-2025/
END:VEVENT
END:VCALENDAR