BEGIN:VCALENDAR
VERSION:2.0
PRODID:-//eventon.com NONSGML v1.0//EN
CALSCALE:GREGORIAN
METHOD:PUBLISH
BEGIN:VEVENT
UID:69e6f2378c591
DTSTAMP:20260421T104247
DTSTART:20251109T122800Z
DTEND:20251109T122800Z
TZID:Asia/Bangkok
LOCATION:ชลบุรี 
SUMMARY:BANGSAEN42 Chonburi Marathon 2025
DESCRIPTION: BANGSAEN42 Chonburi Marathon 2025\nhttps://patrunning.com/events/bangsaen42-chonburi-marathon-2025/
URL:https://patrunning.com/events/bangsaen42-chonburi-marathon-2025/
END:VEVENT
END:VCALENDAR