BEGIN:VCALENDAR
VERSION:2.0
PRODID:-//eventon.com NONSGML v1.0//EN
CALSCALE:GREGORIAN
METHOD:PUBLISH
BEGIN:VEVENT
UID:69e785272d4c7
DTSTAMP:20260421T210943
DTSTART:20251123T125000Z
DTEND:20251123T125000Z
TZID:Asia/Bangkok
LOCATION:Vietnam 
SUMMARY:Halong Bay Heritage Marathon 2025
DESCRIPTION: Halong Bay Heritage Marathon 2025\nhttps://patrunning.com/events/halong-bay-heritage-marathon-2025/
URL:https://patrunning.com/events/halong-bay-heritage-marathon-2025/
END:VEVENT
END:VCALENDAR