BEGIN:VCALENDAR
VERSION:2.0
PRODID:-//eventon.com NONSGML v1.0//EN
CALSCALE:GREGORIAN
METHOD:PUBLISH
BEGIN:VEVENT
UID:69e7804dbf277
DTSTAMP:20260421T204901
DTSTART:20250510T120600Z
DTEND:20250510T120600Z
TZID:Asia/Bangkok
LOCATION:กรุงเทพมหานคร 
SUMMARY:KMS5000 Grand Opening 2025 ครั้งที่ 3
DESCRIPTION: KMS5000 Grand Opening 2025 ครั้งที่ 3\nhttps://patrunning.com/events/kms5000-grand-opening-2025-%e0%b8%84%e0%b8%a3%e0%b8%b1%e0%b9%89%e0%b8%87%e0%b8%97%e0%b8%b5%e0%b9%88-3/
URL:https://patrunning.com/events/kms5000-grand-opening-2025-%e0%b8%84%e0%b8%a3%e0%b8%b1%e0%b9%89%e0%b8%87%e0%b8%97%e0%b8%b5%e0%b9%88-3/
END:VEVENT
END:VCALENDAR