BEGIN:VCALENDAR
VERSION:2.0
PRODID:-//eventon.com NONSGML v1.0//EN
CALSCALE:GREGORIAN
METHOD:PUBLISH
BEGIN:VEVENT
UID:69e755a06280d
DTSTAMP:20260421T174656
DTSTART:20250622T120800Z
DTEND:20250622T120800Z
TZID:Asia/Bangkok
LOCATION:กรุงเทพมหานคร 
SUMMARY:ร่มรั้วฯรัน 5
DESCRIPTION: ร่มรั้วฯรัน 5\nhttps://patrunning.com/events/%e0%b8%a3%e0%b9%88%e0%b8%a1%e0%b8%a3%e0%b8%b1%e0%b9%89%e0%b8%a7%e0%b8%af%e0%b8%a3%e0%b8%b1%e0%b8%99-5/
URL:https://patrunning.com/events/%e0%b8%a3%e0%b9%88%e0%b8%a1%e0%b8%a3%e0%b8%b1%e0%b9%89%e0%b8%a7%e0%b8%af%e0%b8%a3%e0%b8%b1%e0%b8%99-5/
END:VEVENT
END:VCALENDAR