BEGIN:VCALENDAR
VERSION:2.0
PRODID:-//eventon.com NONSGML v1.0//EN
CALSCALE:GREGORIAN
METHOD:PUBLISH
BEGIN:VEVENT
UID:69e82a205f908
DTSTAMP:20260422T085336
DTSTART:20250608T031400Z
DTEND:20250608T031400Z
TZID:Asia/Bangkok
LOCATION:นครราชสีมา 
SUMMARY:ทุเรียน บุญมาก มินิมาราธอน ครั้งที่ 1
DESCRIPTION: ทุเรียน บุญมาก มินิมาราธอน ครั้งที่ 1\nhttps://patrunning.com/events/%e0%b8%97%e0%b8%b8%e0%b9%80%e0%b8%a3%e0%b8%b5%e0%b8%a2%e0%b8%99-%e0%b8%9a%e0%b8%b8%e0%b8%8d%e0%b8%a1%e0%b8%b2%e0%b8%81-%e0%b8%a1%e0%b8%b4%e0%b8%99%e0%b8%b4%e0%b8%a1%e0%b8%b2%e0%b8%a3%e0%b8%b2%e0%b8%98/
URL:https://patrunning.com/events/%e0%b8%97%e0%b8%b8%e0%b9%80%e0%b8%a3%e0%b8%b5%e0%b8%a2%e0%b8%99-%e0%b8%9a%e0%b8%b8%e0%b8%8d%e0%b8%a1%e0%b8%b2%e0%b8%81-%e0%b8%a1%e0%b8%b4%e0%b8%99%e0%b8%b4%e0%b8%a1%e0%b8%b2%e0%b8%a3%e0%b8%b2%e0%b8%98/
END:VEVENT
END:VCALENDAR