BEGIN:VCALENDAR
VERSION:2.0
PRODID:-//eventon.com NONSGML v1.0//EN
CALSCALE:GREGORIAN
METHOD:PUBLISH
BEGIN:VEVENT
UID:69e76db99a850
DTSTAMP:20260421T192945
DTSTART:20250420T122500Z
DTEND:20250420T122500Z
TZID:Asia/Bangkok
LOCATION:กรุงเทพมหานคร 
SUMMARY:วิ่งล้อมเมือง "Healthy City" (เขตสายไหม วิ่งฟรี)
DESCRIPTION: วิ่งล้อมเมือง "Healthy City" (เขตสายไหม วิ่งฟรี)\nhttps://patrunning.com/events/%e0%b8%a7%e0%b8%b4%e0%b9%88%e0%b8%87%e0%b8%a5%e0%b9%89%e0%b8%ad%e0%b8%a1%e0%b9%80%e0%b8%a1%e0%b8%b7%e0%b8%ad%e0%b8%87-healthy-city-%e0%b9%80%e0%b8%82%e0%b8%95%e0%b8%aa%e0%b8%b2%e0%b8%a2%e0%b9%84/
URL:https://patrunning.com/events/%e0%b8%a7%e0%b8%b4%e0%b9%88%e0%b8%87%e0%b8%a5%e0%b9%89%e0%b8%ad%e0%b8%a1%e0%b9%80%e0%b8%a1%e0%b8%b7%e0%b8%ad%e0%b8%87-healthy-city-%e0%b9%80%e0%b8%82%e0%b8%95%e0%b8%aa%e0%b8%b2%e0%b8%a2%e0%b9%84/
END:VEVENT
END:VCALENDAR