BEGIN:VCALENDAR
VERSION:2.0
PRODID:-//eventon.com NONSGML v1.0//EN
CALSCALE:GREGORIAN
METHOD:PUBLISH
BEGIN:VEVENT
UID:69e7520e6fb7f
DTSTAMP:20260421T173142
DTSTART:20250525T122500Z
DTEND:20250525T122500Z
TZID:Asia/Bangkok
LOCATION:กรุงเทพมหานคร 
SUMMARY:วิ่งล้อมเมือง "Healthy City" (เขตประเวศ วิ่งฟรี)
DESCRIPTION: วิ่งล้อมเมือง "Healthy City" (เขตประเวศ วิ่งฟรี)\nhttps://patrunning.com/events/%e0%b8%a7%e0%b8%b4%e0%b9%88%e0%b8%87%e0%b8%a5%e0%b9%89%e0%b8%ad%e0%b8%a1%e0%b9%80%e0%b8%a1%e0%b8%b7%e0%b8%ad%e0%b8%87-healthy-city-%e0%b9%80%e0%b8%82%e0%b8%95%e0%b8%9b%e0%b8%a3%e0%b8%b0%e0%b9%80/
URL:https://patrunning.com/events/%e0%b8%a7%e0%b8%b4%e0%b9%88%e0%b8%87%e0%b8%a5%e0%b9%89%e0%b8%ad%e0%b8%a1%e0%b9%80%e0%b8%a1%e0%b8%b7%e0%b8%ad%e0%b8%87-healthy-city-%e0%b9%80%e0%b8%82%e0%b8%95%e0%b8%9b%e0%b8%a3%e0%b8%b0%e0%b9%80/
END:VEVENT
END:VCALENDAR