BEGIN:VCALENDAR
VERSION:2.0
PRODID:-//eventon.com NONSGML v1.0//EN
CALSCALE:GREGORIAN
METHOD:PUBLISH
BEGIN:VEVENT
UID:69e829f1d3f9f
DTSTAMP:20260422T085249
DTSTART:20250501T040700Z
DTEND:20250501T040700Z
TZID:Asia/Bangkok
LOCATION:นครราชสีมา 
SUMMARY:KORAT May day 1st Mini Marathon 2025 "  เดิน-วิ่งการกุศลวันแรงงานแห่งชาติ นครราชสีมา ครั้งที่ 1
DESCRIPTION: KORAT May day 1st Mini Marathon 2025 "  เดิน-วิ่งการกุศลวันแรงงานแห่งชาติ นครราชสีมา ครั้งที่ 1\nhttps://patrunning.com/events/korat-may-day-1st-mini-marathon-2025-%e0%b9%80%e0%b8%94%e0%b8%b4%e0%b8%99-%e0%b8%a7%e0%b8%b4%e0%b9%88%e0%b8%87%e0%b8%81%e0%b8%b2%e0%b8%a3%e0%b8%81%e0%b8%b8%e0%b8%a8%e0%b8%a5%e0%b8%a7%e0%b8%b1/
URL:https://patrunning.com/events/korat-may-day-1st-mini-marathon-2025-%e0%b9%80%e0%b8%94%e0%b8%b4%e0%b8%99-%e0%b8%a7%e0%b8%b4%e0%b9%88%e0%b8%87%e0%b8%81%e0%b8%b2%e0%b8%a3%e0%b8%81%e0%b8%b8%e0%b8%a8%e0%b8%a5%e0%b8%a7%e0%b8%b1/
END:VEVENT
END:VCALENDAR