BEGIN:VCALENDAR
VERSION:2.0
PRODID:-//eventon.com NONSGML v1.0//EN
CALSCALE:GREGORIAN
METHOD:PUBLISH
BEGIN:VEVENT
UID:69ebc705163db
DTSTAMP:20260425T023949
DTSTART:20250921T115500Z
DTEND:20250921T115500Z
TZID:Asia/Bangkok
LOCATION:นครพนม 
SUMMARY:สะออนรัน ครั้งที่ 8
DESCRIPTION: สะออนรัน ครั้งที่ 8\nhttps://patrunning.com/events/%e0%b8%aa%e0%b8%b0%e0%b8%ad%e0%b8%ad%e0%b8%99%e0%b8%a3%e0%b8%b1%e0%b8%99-%e0%b8%84%e0%b8%a3%e0%b8%b1%e0%b9%89%e0%b8%87%e0%b8%97%e0%b8%b5%e0%b9%88-8/
URL:https://patrunning.com/events/%e0%b8%aa%e0%b8%b0%e0%b8%ad%e0%b8%ad%e0%b8%99%e0%b8%a3%e0%b8%b1%e0%b8%99-%e0%b8%84%e0%b8%a3%e0%b8%b1%e0%b9%89%e0%b8%87%e0%b8%97%e0%b8%b5%e0%b9%88-8/
END:VEVENT
END:VCALENDAR