BEGIN:VCALENDAR
VERSION:2.0
PRODID:-//eventon.com NONSGML v1.0//EN
CALSCALE:GREGORIAN
METHOD:PUBLISH
BEGIN:VEVENT
UID:69ebc7662e841
DTSTAMP:20260425T024126
DTSTART:20251130T042000Z
DTEND:20251130T042000Z
TZID:Asia/Bangkok
LOCATION:นครพนม 
SUMMARY:PEA นครพนม แล่น เลาะ โขง
DESCRIPTION: PEA นครพนม แล่น เลาะ โขง\nhttps://patrunning.com/events/pea-%e0%b8%99%e0%b8%84%e0%b8%a3%e0%b8%9e%e0%b8%99%e0%b8%a1-%e0%b9%81%e0%b8%a5%e0%b9%88%e0%b8%99-%e0%b9%80%e0%b8%a5%e0%b8%b2%e0%b8%b0-%e0%b9%82%e0%b8%82%e0%b8%87/
URL:https://patrunning.com/events/pea-%e0%b8%99%e0%b8%84%e0%b8%a3%e0%b8%9e%e0%b8%99%e0%b8%a1-%e0%b9%81%e0%b8%a5%e0%b9%88%e0%b8%99-%e0%b9%80%e0%b8%a5%e0%b8%b2%e0%b8%b0-%e0%b9%82%e0%b8%82%e0%b8%87/
END:VEVENT
END:VCALENDAR