BEGIN:VCALENDAR
VERSION:2.0
PRODID:-//eventon.com NONSGML v1.0//EN
CALSCALE:GREGORIAN
METHOD:PUBLISH
BEGIN:VEVENT
UID:69e82a1f5ae70
DTSTAMP:20260422T085335
DTSTART:20251116T040000Z
DTEND:20251116T040000Z
TZID:Asia/Bangkok
LOCATION:นครราชสีมา 
SUMMARY:KORAT MARATHON 2025 PRESENTED BY BYD
DESCRIPTION: KORAT MARATHON 2025 PRESENTED BY BYD\nhttps://patrunning.com/events/korat-marathon-2025-presented-by-byd/
URL:https://patrunning.com/events/korat-marathon-2025-presented-by-byd/
END:VEVENT
END:VCALENDAR