BEGIN:VCALENDAR
VERSION:2.0
PRODID:-//eventon.com NONSGML v1.0//EN
CALSCALE:GREGORIAN
METHOD:PUBLISH
BEGIN:VEVENT
UID:69ebc76c52b58
DTSTAMP:20260425T024132
DTSTART:20250713T040500Z
DTEND:20250713T040500Z
TZID:Asia/Bangkok
LOCATION:นครพนม 
SUMMARY:TechnicNakhon Minimarathon
DESCRIPTION: TechnicNakhon Minimarathon\nhttps://patrunning.com/events/technicnakhon-minimarathon/
URL:https://patrunning.com/events/technicnakhon-minimarathon/
END:VEVENT
END:VCALENDAR