BEGIN:VCALENDAR
VERSION:2.0
PRODID:-//eventon.com NONSGML v1.0//EN
CALSCALE:GREGORIAN
METHOD:PUBLISH
BEGIN:VEVENT
UID:69e811627ee8c
DTSTAMP:20260422T070802
DTSTART:20251129T045200Z
DTEND:20251129T045200Z
TZID:Asia/Bangkok
LOCATION:นครราชสีมา 
SUMMARY:KORAT LOIFAA MARATHON 2025
DESCRIPTION: KORAT LOIFAA MARATHON 2025\nhttps://patrunning.com/events/korat-loifaa-marathon-2025/
URL:https://patrunning.com/events/korat-loifaa-marathon-2025/
END:VEVENT
END:VCALENDAR