BEGIN:VCALENDAR
VERSION:2.0
PRODID:-//eventon.com NONSGML v1.0//EN
CALSCALE:GREGORIAN
METHOD:PUBLISH
BEGIN:VEVENT
UID:69e81131b7e1f
DTSTAMP:20260422T070713
DTSTART:20250705T045500Z
DTEND:20250705T045500Z
TZID:Asia/Bangkok
LOCATION:นครราชสีมา 
SUMMARY:TOPO x SEUXPHEN MTN Racer 4 Try On
DESCRIPTION: TOPO x SEUXPHEN MTN Racer 4 Try On\nhttps://patrunning.com/events/topo-x-seuxphen-mtn-racer-4-try-on/
URL:https://patrunning.com/events/topo-x-seuxphen-mtn-racer-4-try-on/
END:VEVENT
END:VCALENDAR