BEGIN:VCALENDAR
VERSION:2.0
PRODID:-//eventon.com NONSGML v1.0//EN
CALSCALE:GREGORIAN
METHOD:PUBLISH
BEGIN:VEVENT
UID:69ebb1f7f0649
DTSTAMP:20260425T010959
DTSTART:20250831T050000Z
DTEND:20250831T050000Z
TZID:Asia/Bangkok
LOCATION:นครพนม 
SUMMARY:NPU 10K RUN 2025
DESCRIPTION: NPU 10K RUN 2025\nhttps://patrunning.com/events/npu-10k-run-2025/
URL:https://patrunning.com/events/npu-10k-run-2025/
END:VEVENT
END:VCALENDAR