BEGIN:VCALENDAR
VERSION:2.0
PRODID:-//eventon.com NONSGML v1.0//EN
CALSCALE:GREGORIAN
METHOD:PUBLISH
BEGIN:VEVENT
UID:69e81130bb4bd
DTSTAMP:20260422T070712
DTSTART:20251116T115100Z
DTEND:20251116T115100Z
TZID:Asia/Bangkok
LOCATION:นครราชสีมา 
SUMMARY:D run for life 2024-2025 เขาใหญ่
DESCRIPTION: D run for life 2024-2025 เขาใหญ่\nhttps://patrunning.com/events/d-run-for-life-2024-2025-%e0%b9%80%e0%b8%82%e0%b8%b2%e0%b9%83%e0%b8%ab%e0%b8%8d%e0%b9%88/
URL:https://patrunning.com/events/d-run-for-life-2024-2025-%e0%b9%80%e0%b8%82%e0%b8%b2%e0%b9%83%e0%b8%ab%e0%b8%8d%e0%b9%88/
END:VEVENT
END:VCALENDAR