BEGIN:VCALENDAR
VERSION:2.0
PRODID:-//eventon.com NONSGML v1.0//EN
CALSCALE:GREGORIAN
METHOD:PUBLISH
BEGIN:VEVENT
UID:69e8113047288
DTSTAMP:20260422T070712
DTSTART:20251019T115900Z
DTEND:20251019T115900Z
TZID:Asia/Bangkok
LOCATION:นครราชสีมา 
SUMMARY:เดิน-วิ่งการกุศล CP ISAN RUN FOR CHARITY 2025
DESCRIPTION: เดิน-วิ่งการกุศล CP ISAN RUN FOR CHARITY 2025\nhttps://patrunning.com/events/%e0%b9%80%e0%b8%94%e0%b8%b4%e0%b8%99-%e0%b8%a7%e0%b8%b4%e0%b9%88%e0%b8%87%e0%b8%81%e0%b8%b2%e0%b8%a3%e0%b8%81%e0%b8%b8%e0%b8%a8%e0%b8%a5-cp-isan-run-for-charity-2025/
URL:https://patrunning.com/events/%e0%b9%80%e0%b8%94%e0%b8%b4%e0%b8%99-%e0%b8%a7%e0%b8%b4%e0%b9%88%e0%b8%87%e0%b8%81%e0%b8%b2%e0%b8%a3%e0%b8%81%e0%b8%b8%e0%b8%a8%e0%b8%a5-cp-isan-run-for-charity-2025/
END:VEVENT
END:VCALENDAR