BEGIN:VCALENDAR
VERSION:2.0
PRODID:-//eventon.com NONSGML v1.0//EN
CALSCALE:GREGORIAN
METHOD:PUBLISH
BEGIN:VEVENT
UID:69e811035f18e
DTSTAMP:20260422T070627
DTSTART:20250809T121400Z
DTEND:20250809T121400Z
TZID:Asia/Bangkok
LOCATION:นครราชสีมา 
SUMMARY:Khorat Geopark Night Run 2025
DESCRIPTION: Khorat Geopark Night Run 2025\nhttps://patrunning.com/events/khorat-geopark-night-run-2025/
URL:https://patrunning.com/events/khorat-geopark-night-run-2025/
END:VEVENT
END:VCALENDAR