BEGIN:VCALENDAR
VERSION:2.0
PRODID:-//eventon.com NONSGML v1.0//EN
CALSCALE:GREGORIAN
METHOD:PUBLISH
BEGIN:VEVENT
UID:69e811055bd42
DTSTAMP:20260422T070629
DTSTART:20251213T232200Z
DTEND:20251213T232200Z
TZID:Pacific/Midway
LOCATION:นครราชสีมา 
SUMMARY:5th Khaoyai 100K Ultra Marathon 2025
DESCRIPTION: 5th Khaoyai 100K Ultra Marathon 2025\nhttps://patrunning.com/events/5th-khaoyai-100k-ultra-marathon-2025/
URL:https://patrunning.com/events/5th-khaoyai-100k-ultra-marathon-2025/
END:VEVENT
END:VCALENDAR