BEGIN:VCALENDAR
VERSION:2.0
PRODID:-//eventon.com NONSGML v1.0//EN
CALSCALE:GREGORIAN
METHOD:PUBLISH
BEGIN:VEVENT
UID:69e81103f241c
DTSTAMP:20260422T070627
DTSTART:20241102T230400Z
DTEND:20241102T230400Z
TZID:Pacific/Midway
LOCATION:นครราชสีมา 
SUMMARY:KORAT 100  Ultra Marathon 2025
DESCRIPTION: KORAT 100  Ultra Marathon 2025\nhttps://patrunning.com/events/korat-100-ultra-marathon-2025/
URL:https://patrunning.com/events/korat-100-ultra-marathon-2025/
END:VEVENT
END:VCALENDAR