BEGIN:VCALENDAR
VERSION:2.0
PRODID:-//eventon.com NONSGML v1.0//EN
CALSCALE:GREGORIAN
METHOD:PUBLISH
BEGIN:VEVENT
UID:69e811314665c
DTSTAMP:20260422T070713
DTSTART:20250907T032200Z
DTEND:20250907T032200Z
TZID:Asia/Bangkok
LOCATION:นครราชสีมา 
SUMMARY:GREEN TRAILRUN KHAOYAI 2025 Feel the world natural heritage <font style="color:#FF0000">(สมัครฟรี)</font>
DESCRIPTION: GREEN TRAILRUN KHAOYAI 2025 Feel the world natural heritage <font style="color:#FF0000">(สมัครฟรี)</font>\nhttps://patrunning.com/events/green-trailrun-khaoyai-2025-feel-the-world-natural-heritage-%e0%b8%aa%e0%b8%a1%e0%b8%b1%e0%b8%84%e0%b8%a3%e0%b8%9f%e0%b8%a3%e0%b8%b5/
URL:https://patrunning.com/events/green-trailrun-khaoyai-2025-feel-the-world-natural-heritage-%e0%b8%aa%e0%b8%a1%e0%b8%b1%e0%b8%84%e0%b8%a3%e0%b8%9f%e0%b8%a3%e0%b8%b5/
END:VEVENT
END:VCALENDAR