BEGIN:VCALENDAR
VERSION:2.0
PRODID:-//eventon.com NONSGML v1.0//EN
CALSCALE:GREGORIAN
METHOD:PUBLISH
BEGIN:VEVENT
UID:69e76d7368445
DTSTAMP:20260421T192835
DTSTART:20251109T021500Z
DTEND:20251109T021500Z
TZID:Asia/Bangkok
LOCATION:ระยอง 
SUMMARY:Run For Kids วิ่งด้วยใจ ให้ด้วยรัก ครั้งที่ 10
DESCRIPTION: Run For Kids วิ่งด้วยใจ ให้ด้วยรัก ครั้งที่ 10\nhttps://patrunning.com/events/run-for-kids-%e0%b8%a7%e0%b8%b4%e0%b9%88%e0%b8%87%e0%b8%94%e0%b9%89%e0%b8%a7%e0%b8%a2%e0%b9%83%e0%b8%88-%e0%b9%83%e0%b8%ab%e0%b9%89%e0%b8%94%e0%b9%89%e0%b8%a7%e0%b8%a2%e0%b8%a3%e0%b8%b1%e0%b8%81-4/
URL:https://patrunning.com/events/run-for-kids-%e0%b8%a7%e0%b8%b4%e0%b9%88%e0%b8%87%e0%b8%94%e0%b9%89%e0%b8%a7%e0%b8%a2%e0%b9%83%e0%b8%88-%e0%b9%83%e0%b8%ab%e0%b9%89%e0%b8%94%e0%b9%89%e0%b8%a7%e0%b8%a2%e0%b8%a3%e0%b8%b1%e0%b8%81-4/
END:VEVENT
END:VCALENDAR