BEGIN:VCALENDAR
VERSION:2.0
PRODID:-//eventon.com NONSGML v1.0//EN
CALSCALE:GREGORIAN
METHOD:PUBLISH
BEGIN:VEVENT
UID:69e76dba14f5a
DTSTAMP:20260421T192946
DTSTART:20250725T132000Z
DTEND:20250725T132000Z
TZID:Asia/Bangkok
LOCATION:ประจวบคีรีขันธ์ 
SUMMARY:บ้านกรูดรันเดอร์แลนด์ 2025 (17.00 น.)
DESCRIPTION: บ้านกรูดรันเดอร์แลนด์ 2025 (17.00 น.)\nhttps://patrunning.com/events/%e0%b8%9a%e0%b9%89%e0%b8%b2%e0%b8%99%e0%b8%81%e0%b8%a3%e0%b8%b9%e0%b8%94%e0%b8%a3%e0%b8%b1%e0%b8%99%e0%b9%80%e0%b8%94%e0%b8%ad%e0%b8%a3%e0%b9%8c%e0%b9%81%e0%b8%a5%e0%b8%99%e0%b8%94%e0%b9%8c-2025-17-0/
URL:https://patrunning.com/events/%e0%b8%9a%e0%b9%89%e0%b8%b2%e0%b8%99%e0%b8%81%e0%b8%a3%e0%b8%b9%e0%b8%94%e0%b8%a3%e0%b8%b1%e0%b8%99%e0%b9%80%e0%b8%94%e0%b8%ad%e0%b8%a3%e0%b9%8c%e0%b9%81%e0%b8%a5%e0%b8%99%e0%b8%94%e0%b9%8c-2025-17-0/
END:VEVENT
END:VCALENDAR