BEGIN:VCALENDAR
VERSION:2.0
PRODID:-//eventon.com NONSGML v1.0//EN
CALSCALE:GREGORIAN
METHOD:PUBLISH
BEGIN:VEVENT
UID:69e7f80f7d582
DTSTAMP:20260422T051959
DTSTART:20251102T134400Z
DTEND:20251102T134400Z
TZID:Asia/Bangkok
LOCATION:นครราชสีมา 
SUMMARY:Korat 100 Ultra Marathon 2025
DESCRIPTION: Korat 100 Ultra Marathon 2025\nhttps://patrunning.com/events/korat-100-ultra-marathon-2025-2/
URL:https://patrunning.com/events/korat-100-ultra-marathon-2025-2/
END:VEVENT
END:VCALENDAR