BEGIN:VCALENDAR
VERSION:2.0
PRODID:-//eventon.com NONSGML v1.0//EN
CALSCALE:GREGORIAN
METHOD:PUBLISH
BEGIN:VEVENT
UID:69e7f7c75fc65
DTSTAMP:20260422T051847
DTSTART:20260110T072600Z
DTEND:20260111T072600Z
TZID:Asia/Bangkok
LOCATION:นครราชสีมา 
SUMMARY:B-QUIK KHAO YAI MARATHON 2026
DESCRIPTION: B-QUIK KHAO YAI MARATHON 2026\nhttps://patrunning.com/events/b-quik-khao-yai-marathon-2026/
URL:https://patrunning.com/events/b-quik-khao-yai-marathon-2026/
END:VEVENT
END:VCALENDAR