BEGIN:VCALENDAR
VERSION:2.0
PRODID:-//eventon.com NONSGML v1.0//EN
CALSCALE:GREGORIAN
METHOD:PUBLISH
BEGIN:VEVENT
UID:69e7f7c4cc069
DTSTAMP:20260422T051844
DTSTART:20251026T142900Z
DTEND:20251026T142900Z
TZID:Asia/Bangkok
LOCATION:นครราชสีมา 
SUMMARY:วิ่งปั่นรวมใจ อุทยานหลวงปู่มั่น ภูริทัตโต
DESCRIPTION: วิ่งปั่นรวมใจ อุทยานหลวงปู่มั่น ภูริทัตโต\nhttps://patrunning.com/events/%e0%b8%a7%e0%b8%b4%e0%b9%88%e0%b8%87%e0%b8%9b%e0%b8%b1%e0%b9%88%e0%b8%99%e0%b8%a3%e0%b8%a7%e0%b8%a1%e0%b9%83%e0%b8%88-%e0%b8%ad%e0%b8%b8%e0%b8%97%e0%b8%a2%e0%b8%b2%e0%b8%99%e0%b8%ab%e0%b8%a5%e0%b8%a7/
URL:https://patrunning.com/events/%e0%b8%a7%e0%b8%b4%e0%b9%88%e0%b8%87%e0%b8%9b%e0%b8%b1%e0%b9%88%e0%b8%99%e0%b8%a3%e0%b8%a7%e0%b8%a1%e0%b9%83%e0%b8%88-%e0%b8%ad%e0%b8%b8%e0%b8%97%e0%b8%a2%e0%b8%b2%e0%b8%99%e0%b8%ab%e0%b8%a5%e0%b8%a7/
END:VEVENT
END:VCALENDAR