BEGIN:VCALENDAR
VERSION:2.0
PRODID:-//eventon.com NONSGML v1.0//EN
CALSCALE:GREGORIAN
METHOD:PUBLISH
BEGIN:VEVENT
UID:69e7f7c4cc069
DTSTAMP:20260422T051844
DTSTART:20251122T143300Z
DTEND:20251122T143300Z
TZID:Asia/Bangkok
LOCATION:นครราชสีมา 
SUMMARY:สนู้ปปี้ รัน @ เขาใหญ่ 2025 (16:00 น)
DESCRIPTION: สนู้ปปี้ รัน @ เขาใหญ่ 2025 (16:00 น)\nhttps://patrunning.com/events/%e0%b8%aa%e0%b8%99%e0%b8%b9%e0%b9%89%e0%b8%9b%e0%b8%9b%e0%b8%b5%e0%b9%89-%e0%b8%a3%e0%b8%b1%e0%b8%99-%e0%b9%80%e0%b8%82%e0%b8%b2%e0%b9%83%e0%b8%ab%e0%b8%8d%e0%b9%88-2025-1600-%e0%b8%99/
URL:https://patrunning.com/events/%e0%b8%aa%e0%b8%99%e0%b8%b9%e0%b9%89%e0%b8%9b%e0%b8%9b%e0%b8%b5%e0%b9%89-%e0%b8%a3%e0%b8%b1%e0%b8%99-%e0%b9%80%e0%b8%82%e0%b8%b2%e0%b9%83%e0%b8%ab%e0%b8%8d%e0%b9%88-2025-1600-%e0%b8%99/
END:VEVENT
END:VCALENDAR