BEGIN:VCALENDAR
VERSION:2.0
PRODID:-//eventon.com NONSGML v1.0//EN
CALSCALE:GREGORIAN
METHOD:PUBLISH
BEGIN:VEVENT
UID:69e7f7afbe381
DTSTAMP:20260422T051823
DTSTART:20250922T051000Z
DTEND:20250922T051000Z
TZID:Asia/Bangkok
LOCATION:นครราชสีมา 
SUMMARY:เขาใหญ่ คาร์ ฟรี เดย์ 2025
DESCRIPTION: เขาใหญ่ คาร์ ฟรี เดย์ 2025\nhttps://patrunning.com/events/%e0%b9%80%e0%b8%82%e0%b8%b2%e0%b9%83%e0%b8%ab%e0%b8%8d%e0%b9%88-%e0%b8%84%e0%b8%b2%e0%b8%a3%e0%b9%8c-%e0%b8%9f%e0%b8%a3%e0%b8%b5-%e0%b9%80%e0%b8%94%e0%b8%a2%e0%b9%8c-2025/
URL:https://patrunning.com/events/%e0%b9%80%e0%b8%82%e0%b8%b2%e0%b9%83%e0%b8%ab%e0%b8%8d%e0%b9%88-%e0%b8%84%e0%b8%b2%e0%b8%a3%e0%b9%8c-%e0%b8%9f%e0%b8%a3%e0%b8%b5-%e0%b9%80%e0%b8%94%e0%b8%a2%e0%b9%8c-2025/
END:VEVENT
END:VCALENDAR