BEGIN:VCALENDAR
VERSION:2.0
PRODID:-//eventon.com NONSGML v1.0//EN
CALSCALE:GREGORIAN
METHOD:PUBLISH
BEGIN:VEVENT
UID:69e7f81005a83
DTSTAMP:20260422T052000
DTSTART:20251004T051500Z
DTEND:20251004T051500Z
TZID:Asia/Bangkok
LOCATION:นครราชสีมา 
SUMMARY:หลวงพ่อคูณ มินิมาราธอน ครั้งที่ 16
DESCRIPTION: หลวงพ่อคูณ มินิมาราธอน ครั้งที่ 16\nhttps://patrunning.com/events/%e0%b8%ab%e0%b8%a5%e0%b8%a7%e0%b8%87%e0%b8%9e%e0%b9%88%e0%b8%ad%e0%b8%84%e0%b8%b9%e0%b8%93-%e0%b8%a1%e0%b8%b4%e0%b8%99%e0%b8%b4%e0%b8%a1%e0%b8%b2%e0%b8%a3%e0%b8%b2%e0%b8%98%e0%b8%ad%e0%b8%99-%e0%b8%84/
URL:https://patrunning.com/events/%e0%b8%ab%e0%b8%a5%e0%b8%a7%e0%b8%87%e0%b8%9e%e0%b9%88%e0%b8%ad%e0%b8%84%e0%b8%b9%e0%b8%93-%e0%b8%a1%e0%b8%b4%e0%b8%99%e0%b8%b4%e0%b8%a1%e0%b8%b2%e0%b8%a3%e0%b8%b2%e0%b8%98%e0%b8%ad%e0%b8%99-%e0%b8%84/
END:VEVENT
END:VCALENDAR