BEGIN:VCALENDAR
VERSION:2.0
PRODID:-//eventon.com NONSGML v1.0//EN
CALSCALE:GREGORIAN
METHOD:PUBLISH
BEGIN:VEVENT
UID:69e7f808e9b28
DTSTAMP:20260422T051952
DTSTART:20250831T104400Z
DTEND:20250831T104400Z
TZID:Asia/Bangkok
LOCATION:นครราชสีมา 
SUMMARY:เดิน วิ่ง SRN2 RUN 2025
DESCRIPTION: เดิน วิ่ง SRN2 RUN 2025\nhttps://patrunning.com/events/%e0%b9%80%e0%b8%94%e0%b8%b4%e0%b8%99-%e0%b8%a7%e0%b8%b4%e0%b9%88%e0%b8%87-srn2-run-2025/
URL:https://patrunning.com/events/%e0%b9%80%e0%b8%94%e0%b8%b4%e0%b8%99-%e0%b8%a7%e0%b8%b4%e0%b9%88%e0%b8%87-srn2-run-2025/
END:VEVENT
END:VCALENDAR