BEGIN:VCALENDAR
VERSION:2.0
PRODID:-//eventon.com NONSGML v1.0//EN
CALSCALE:GREGORIAN
METHOD:PUBLISH
BEGIN:VEVENT
UID:69e7f808e39a2
DTSTAMP:20260422T051952
DTSTART:20260118T033200Z
DTEND:20260118T033200Z
TZID:Asia/Bangkok
LOCATION:นครราชสีมา 
SUMMARY:Wing Dankwian MiniMarathon 2026
DESCRIPTION: Wing Dankwian MiniMarathon 2026\nhttps://patrunning.com/events/wing-dankwian-minimarathon-2026/
URL:https://patrunning.com/events/wing-dankwian-minimarathon-2026/
END:VEVENT
END:VCALENDAR