BEGIN:VCALENDAR
VERSION:2.0
PRODID:-//eventon.com NONSGML v1.0//EN
CALSCALE:GREGORIAN
METHOD:PUBLISH
BEGIN:VEVENT
UID:69eb9e9a0f448
DTSTAMP:20260424T234722
DTSTART:20251228T065000Z
DTEND:20251228T065000Z
TZID:Asia/Bangkok
LOCATION:นครพนม 
SUMMARY:Thatphanom Run & Learn 2025
DESCRIPTION: Thatphanom Run & Learn 2025\nhttps://patrunning.com/events/thatphanom-run-learn-2025/
URL:https://patrunning.com/events/thatphanom-run-learn-2025/
END:VEVENT
END:VCALENDAR