BEGIN:VCALENDAR
VERSION:2.0
PRODID:-//eventon.com NONSGML v1.0//EN
CALSCALE:GREGORIAN
METHOD:PUBLISH
BEGIN:VEVENT
UID:69e76b8aabad4
DTSTAMP:20260421T192026
DTSTART:20260207T233000Z
DTEND:20260207T233000Z
TZID:Asia/Bangkok
LOCATION:ระยอง 
SUMMARY:PALA RUN 5 (เลื่อนไป 22 มี.ค.69)
DESCRIPTION: PALA RUN 5 (เลื่อนไป 22 มี.ค.69)\nhttps://patrunning.com/events/pala-run-5/
URL:https://patrunning.com/events/pala-run-5/
END:VEVENT
END:VCALENDAR