BEGIN:VCALENDAR
VERSION:2.0
PRODID:-//eventon.com NONSGML v1.0//EN
CALSCALE:GREGORIAN
METHOD:PUBLISH
BEGIN:VEVENT
UID:69e7f7b1817ea
DTSTAMP:20260422T051825
DTSTART:20251214T042100Z
DTEND:20251214T042100Z
TZID:Asia/Bangkok
LOCATION:นครราชสีมา 
SUMMARY:VU RUN Fun For Health 2025
DESCRIPTION: VU RUN Fun For Health 2025\nhttps://patrunning.com/events/vu-run-fun-for-health-2025/
URL:https://patrunning.com/events/vu-run-fun-for-health-2025/
END:VEVENT
END:VCALENDAR