BEGIN:VCALENDAR
VERSION:2.0
PRODID:-//eventon.com NONSGML v1.0//EN
CALSCALE:GREGORIAN
METHOD:PUBLISH
BEGIN:VEVENT
UID:69e7f807a134d
DTSTAMP:20260422T051951
DTSTART:20251109T042700Z
DTEND:20251109T042700Z
TZID:Asia/Bangkok
LOCATION:นครราชสีมา 
SUMMARY:Khonburi Run #4
DESCRIPTION: Khonburi Run #4\nhttps://patrunning.com/events/khonburi-run-4/
URL:https://patrunning.com/events/khonburi-run-4/
END:VEVENT
END:VCALENDAR