BEGIN:VCALENDAR
VERSION:2.0
PRODID:-//eventon.com NONSGML v1.0//EN
CALSCALE:GREGORIAN
METHOD:PUBLISH
BEGIN:VEVENT
UID:69e7dffce7d36
DTSTAMP:20260422T033716
DTSTART:20251102T065700Z
DTEND:20251102T065700Z
TZID:Asia/Bangkok
LOCATION:นครราชสีมา 
SUMMARY:AF & SCD Awareness Day "Rhythm for Health...Pulse for Life" <font style="color:#FF0000">(อย่าพลาด วิ่งฟรี ดีต่อหัวใจ)</font>
DESCRIPTION: AF & SCD Awareness Day "Rhythm for Health...Pulse for Life" <font style="color:#FF0000">(อย่าพลาด วิ่งฟรี ดีต่อหัวใจ)</font>\nhttps://patrunning.com/events/af-scd-awareness-day-rhythm-for-health-pulse-for-life-%e0%b8%ad%e0%b8%a2%e0%b9%88%e0%b8%b2%e0%b8%9e%e0%b8%a5%e0%b8%b2%e0%b8%94-%e0%b8%a7%e0%b8%b4%e0%b9%88%e0%b8%87%e0%b8%9f%e0%b8%a3%e0%b8%b5/
URL:https://patrunning.com/events/af-scd-awareness-day-rhythm-for-health-pulse-for-life-%e0%b8%ad%e0%b8%a2%e0%b9%88%e0%b8%b2%e0%b8%9e%e0%b8%a5%e0%b8%b2%e0%b8%94-%e0%b8%a7%e0%b8%b4%e0%b9%88%e0%b8%87%e0%b8%9f%e0%b8%a3%e0%b8%b5/
END:VEVENT
END:VCALENDAR