BEGIN:VCALENDAR
VERSION:2.0
PRODID:-//eventon.com NONSGML v1.0//EN
CALSCALE:GREGORIAN
METHOD:PUBLISH
BEGIN:VEVENT
UID:69e7dffc6ec36
DTSTAMP:20260422T033716
DTSTART:20251031T104600Z
DTEND:20251031T104600Z
TZID:Asia/Bangkok
LOCATION:นครราชสีมา 
SUMMARY:Halloween Ghost Run วิ่ง หนี ผี  <font style="color:#FF0000">(สมัครฟรี ไม่มีค่าใช้จ่าย)</font>
DESCRIPTION: Halloween Ghost Run วิ่ง หนี ผี  <font style="color:#FF0000">(สมัครฟรี ไม่มีค่าใช้จ่าย)</font>\nhttps://patrunning.com/events/halloween-ghost-run-%e0%b8%a7%e0%b8%b4%e0%b9%88%e0%b8%87-%e0%b8%ab%e0%b8%99%e0%b8%b5-%e0%b8%9c%e0%b8%b5-%e0%b8%aa%e0%b8%a1%e0%b8%b1%e0%b8%84%e0%b8%a3%e0%b8%9f%e0%b8%a3%e0%b8%b5-%e0%b9%84%e0%b8%a1/
URL:https://patrunning.com/events/halloween-ghost-run-%e0%b8%a7%e0%b8%b4%e0%b9%88%e0%b8%87-%e0%b8%ab%e0%b8%99%e0%b8%b5-%e0%b8%9c%e0%b8%b5-%e0%b8%aa%e0%b8%a1%e0%b8%b1%e0%b8%84%e0%b8%a3%e0%b8%9f%e0%b8%a3%e0%b8%b5-%e0%b9%84%e0%b8%a1/
END:VEVENT
END:VCALENDAR