BEGIN:VCALENDAR
VERSION:2.0
PRODID:-//eventon.com NONSGML v1.0//EN
CALSCALE:GREGORIAN
METHOD:PUBLISH
BEGIN:VEVENT
UID:69e7dfa032c7c
DTSTAMP:20260422T033544
DTSTART:20251122T043500Z
DTEND:20251122T043500Z
TZID:Asia/Bangkok
LOCATION:นครราชสีมา 
SUMMARY:My Melody & Kuromi Celebration Fun Run presented by AIA Vitality
DESCRIPTION: My Melody & Kuromi Celebration Fun Run presented by AIA Vitality\nhttps://patrunning.com/events/my-melody-kuromi-celebration-fun-run-presented-by-aia-vitality/
URL:https://patrunning.com/events/my-melody-kuromi-celebration-fun-run-presented-by-aia-vitality/
END:VEVENT
END:VCALENDAR