BEGIN:VCALENDAR
VERSION:2.0
PRODID:-//eventon.com NONSGML v1.0//EN
CALSCALE:GREGORIAN
METHOD:PUBLISH
BEGIN:VEVENT
UID:69e7555be4816
DTSTAMP:20260421T174547
DTSTART:20260208T064200Z
DTEND:20260208T064200Z
TZID:Asia/Bangkok
LOCATION:ระยอง 
SUMMARY:Trail Masters Series 2026 at Wangchan Valley\,  Rayong  (เลื่อนไป 25 ต.ค.69)
DESCRIPTION: Trail Masters Series 2026 at Wangchan Valley\,  Rayong  (เลื่อนไป 25 ต.ค.69)\nhttps://patrunning.com/events/trail-masters-series-2026-at-wangchan-valley-rayong/
URL:https://patrunning.com/events/trail-masters-series-2026-at-wangchan-valley-rayong/
END:VEVENT
END:VCALENDAR