BEGIN:VCALENDAR
VERSION:2.0
PRODID:-//eventon.com NONSGML v1.0//EN
CALSCALE:GREGORIAN
METHOD:PUBLISH
BEGIN:VEVENT
UID:69e750b022f9b
DTSTAMP:20260421T172552
DTSTART:20260301T130000Z
DTEND:20260301T130000Z
TZID:Asia/Bangkok
LOCATION:กรุงเทพมหานคร 
SUMMARY:Battle Run 2025 Rabit & Turtle
DESCRIPTION: Battle Run 2025 Rabit & Turtle\nhttps://patrunning.com/events/battle-run-2025-rabit-turtle/
URL:https://patrunning.com/events/battle-run-2025-rabit-turtle/
END:VEVENT
END:VCALENDAR