BEGIN:VCALENDAR
VERSION:2.0
PRODID:-//eventon.com NONSGML v1.0//EN
CALSCALE:GREGORIAN
METHOD:PUBLISH
BEGIN:VEVENT
UID:69e7dfc83eece
DTSTAMP:20260422T033624
DTSTART:20260214T131900Z
DTEND:20260215T131900Z
TZID:Asia/Bangkok
LOCATION:นครราชสีมา 
SUMMARY:Khao Yai Wild Breeze Run 2026
DESCRIPTION: Khao Yai Wild Breeze Run 2026\nhttps://patrunning.com/events/khao-yai-my-ozone-breeze-run-2026-2/
URL:https://patrunning.com/events/khao-yai-my-ozone-breeze-run-2026-2/
END:VEVENT
END:VCALENDAR