BEGIN:VCALENDAR
VERSION:2.0
PRODID:-//eventon.com NONSGML v1.0//EN
CALSCALE:GREGORIAN
METHOD:PUBLISH
BEGIN:VEVENT
UID:69e7c32d920ae
DTSTAMP:20260422T013421
DTSTART:20261107T055900Z
DTEND:20261108T055900Z
TZID:Asia/Bangkok
LOCATION:นครราชสีมา 
SUMMARY:KORAT X TRAIL SERIES "Cuesta X Trail 2026 #6th"
DESCRIPTION: KORAT X TRAIL SERIES "Cuesta X Trail 2026 #6th"\nhttps://patrunning.com/events/korat-x-trail-series-cuesta-x-trail-2026-6th/
URL:https://patrunning.com/events/korat-x-trail-series-cuesta-x-trail-2026-6th/
END:VEVENT
END:VCALENDAR