BEGIN:VCALENDAR
VERSION:2.0
PRODID:-//eventon.com NONSGML v1.0//EN
CALSCALE:GREGORIAN
METHOD:PUBLISH
BEGIN:VEVENT
UID:69eb1dbe6e588
DTSTAMP:20260424T143734
DTSTART:20260208T063600Z
DTEND:20260208T063600Z
TZID:Asia/Bangkok
LOCATION:อุบลราชธานี 
SUMMARY:UBON FAMILY Y.S.G. RELAY 2026
DESCRIPTION: UBON FAMILY Y.S.G. RELAY 2026\nhttps://patrunning.com/events/ubon-family-y-s-g-relay-2026/
URL:https://patrunning.com/events/ubon-family-y-s-g-relay-2026/
END:VEVENT
END:VCALENDAR