BEGIN:VCALENDAR
VERSION:2.0
PRODID:-//eventon.com NONSGML v1.0//EN
CALSCALE:GREGORIAN
METHOD:PUBLISH
BEGIN:VEVENT
UID:69ebb1f2344d5
DTSTAMP:20260425T010954
DTSTART:20260214T135400Z
DTEND:20260214T135400Z
TZID:Asia/Bangkok
LOCATION:นครพนม 
SUMMARY:NAKHONPHANOM NIGHT RUN SEASON 2 (18.00 น.)
DESCRIPTION: NAKHONPHANOM NIGHT RUN SEASON 2 (18.00 น.)\nhttps://patrunning.com/events/nakhonphanom-night-run-season-2-18-00-%e0%b8%99/
URL:https://patrunning.com/events/nakhonphanom-night-run-season-2-18-00-%e0%b8%99/
END:VEVENT
END:VCALENDAR