BEGIN:VCALENDAR
VERSION:2.0
PRODID:-//eventon.com NONSGML v1.0//EN
CALSCALE:GREGORIAN
METHOD:PUBLISH
BEGIN:VEVENT
UID:69e7559d4a3a4
DTSTAMP:20260421T174653
DTSTART:20260125T111500Z
DTEND:20260125T111500Z
TZID:Asia/Bangkok
LOCATION:หนองคาย 
SUMMARY:วิ่งการกุศล เฝ้าไร่มินิมาราธอน 2026  ครั้งที่ 1
DESCRIPTION: วิ่งการกุศล เฝ้าไร่มินิมาราธอน 2026  ครั้งที่ 1\nhttps://patrunning.com/events/%e0%b8%a7%e0%b8%b4%e0%b9%88%e0%b8%87%e0%b8%81%e0%b8%b2%e0%b8%a3%e0%b8%81%e0%b8%b8%e0%b8%a8%e0%b8%a5-%e0%b9%80%e0%b8%9d%e0%b9%89%e0%b8%b2%e0%b9%84%e0%b8%a3%e0%b9%88%e0%b8%a1%e0%b8%b4%e0%b8%99%e0%b8%b4/
URL:https://patrunning.com/events/%e0%b8%a7%e0%b8%b4%e0%b9%88%e0%b8%87%e0%b8%81%e0%b8%b2%e0%b8%a3%e0%b8%81%e0%b8%b8%e0%b8%a8%e0%b8%a5-%e0%b9%80%e0%b8%9d%e0%b9%89%e0%b8%b2%e0%b9%84%e0%b8%a3%e0%b9%88%e0%b8%a1%e0%b8%b4%e0%b8%99%e0%b8%b4/
END:VEVENT
END:VCALENDAR