BEGIN:VCALENDAR
VERSION:2.0
PRODID:-//eventon.com NONSGML v1.0//EN
CALSCALE:GREGORIAN
METHOD:PUBLISH
BEGIN:VEVENT
UID:69e7523f4d571
DTSTAMP:20260421T173231
DTSTART:20260906T101800Z
DTEND:20260906T101800Z
TZID:Asia/Bangkok
LOCATION:ระยอง 
SUMMARY:TMS2026 - PRO 3 RACE
DESCRIPTION: TMS2026 - PRO 3 RACE\nhttps://patrunning.com/events/tms2026-pro-3-race-2/
URL:https://patrunning.com/events/tms2026-pro-3-race-2/
END:VEVENT
END:VCALENDAR