BEGIN:VCALENDAR
VERSION:2.0
PRODID:-//eventon.com NONSGML v1.0//EN
CALSCALE:GREGORIAN
METHOD:PUBLISH
BEGIN:VEVENT
UID:69e7559c79202
DTSTAMP:20260421T174652
DTSTART:20261025T102000Z
DTEND:20261025T102000Z
TZID:Asia/Bangkok
LOCATION:ระยอง 
SUMMARY:TMS2026 - PRO 3 RACE
DESCRIPTION: TMS2026 - PRO 3 RACE\nhttps://patrunning.com/events/tms2026-pro-3-race-3/
URL:https://patrunning.com/events/tms2026-pro-3-race-3/
END:VEVENT
END:VCALENDAR