BEGIN:VCALENDAR
VERSION:2.0
PRODID:-//eventon.com NONSGML v1.0//EN
CALSCALE:GREGORIAN
METHOD:PUBLISH
BEGIN:VEVENT
UID:69ebb1f23453b
DTSTAMP:20260425T010954
DTSTART:20260315T064100Z
DTEND:20260315T064100Z
TZID:Asia/Bangkok
LOCATION:นครพนม 
SUMMARY:THA-U-THEN Police Run 2026  เดินวิ่งชมโขง มินิมาราธอน
DESCRIPTION: THA-U-THEN Police Run 2026  เดินวิ่งชมโขง มินิมาราธอน\nhttps://patrunning.com/events/tha-u-then-police-run-2026-%e0%b9%80%e0%b8%94%e0%b8%b4%e0%b8%99%e0%b8%a7%e0%b8%b4%e0%b9%88%e0%b8%87%e0%b8%8a%e0%b8%a1%e0%b9%82%e0%b8%82%e0%b8%87-%e0%b8%a1%e0%b8%b4%e0%b8%99%e0%b8%b4%e0%b8%a1%e0%b8%b2/
URL:https://patrunning.com/events/tha-u-then-police-run-2026-%e0%b9%80%e0%b8%94%e0%b8%b4%e0%b8%99%e0%b8%a7%e0%b8%b4%e0%b9%88%e0%b8%87%e0%b8%8a%e0%b8%a1%e0%b9%82%e0%b8%82%e0%b8%87-%e0%b8%a1%e0%b8%b4%e0%b8%99%e0%b8%b4%e0%b8%a1%e0%b8%b2/
END:VEVENT
END:VCALENDAR